BEGIN:VCALENDAR
VERSION:2.0
PRODID:-//Landesjagdverband Hessen e.V. - ECPv6.15.20//NONSGML v1.0//EN
CALSCALE:GREGORIAN
METHOD:PUBLISH
X-WR-CALNAME:Landesjagdverband Hessen e.V.
X-ORIGINAL-URL:https://ljv-hessen.de
X-WR-CALDESC:Veranstaltungen für Landesjagdverband Hessen e.V.
REFRESH-INTERVAL;VALUE=DURATION:PT1H
X-Robots-Tag:noindex
X-PUBLISHED-TTL:PT1H
BEGIN:VTIMEZONE
TZID:Europe/Berlin
BEGIN:DAYLIGHT
TZOFFSETFROM:+0100
TZOFFSETTO:+0200
TZNAME:CEST
DTSTART:20230326T010000
END:DAYLIGHT
BEGIN:STANDARD
TZOFFSETFROM:+0200
TZOFFSETTO:+0100
TZNAME:CET
DTSTART:20231029T010000
END:STANDARD
BEGIN:DAYLIGHT
TZOFFSETFROM:+0100
TZOFFSETTO:+0200
TZNAME:CEST
DTSTART:20240331T010000
END:DAYLIGHT
BEGIN:STANDARD
TZOFFSETFROM:+0200
TZOFFSETTO:+0100
TZNAME:CET
DTSTART:20241027T010000
END:STANDARD
BEGIN:DAYLIGHT
TZOFFSETFROM:+0100
TZOFFSETTO:+0200
TZNAME:CEST
DTSTART:20250330T010000
END:DAYLIGHT
BEGIN:STANDARD
TZOFFSETFROM:+0200
TZOFFSETTO:+0100
TZNAME:CET
DTSTART:20251026T010000
END:STANDARD
END:VTIMEZONE
BEGIN:VEVENT
DTSTART;TZID=Europe/Berlin:20241012T000000
DTEND;TZID=Europe/Berlin:20241012T235959
DTSTAMP:20260422T130620
CREATED:20240712T111700Z
LAST-MODIFIED:20251112T124254Z
UID:26306-1728691200-1728777599@ljv-hessen.de
SUMMARY:VSwP/VFsP am Hoherodskopf 2024
DESCRIPTION:67. Verbandsschweißprüfung und 21. Verbandsfährtenschuhprüfung auf dem Hoherodskopf. \n\n\n\n\n\n\n\n	\n	\n		\n	\n	\n		JGHV Nennung zur Verbands-Prüfung\n		200\,76 KB /  19. August 2022	\n	\n\n\n\n	\n	\n		\n	\n	\n		Ausschreibungsunterlagen VFSP und VSwP 2024\n		105\,71 KB /  12. Juli 2024
URL:https://ljv-hessen.de/veranstaltung/vswp-vfsp-am-hoherodskopf-2024/
LOCATION:Hoherodskopf\, Hoherodskopf\, Hessen
CATEGORIES:Jagdgebrauchshunde,LJV-Hessen
ATTACH;FMTTYPE=image/jpeg:https://ljv-hessen.de/wp-content/uploads/2021/10/Hoherodskopf2021_VSwP_alle.jpg
END:VEVENT
END:VCALENDAR