BEGIN:VCALENDAR
VERSION:2.0
PRODID:-//Landesjagdverband Hessen e.V. - ECPv6.15.20//NONSGML v1.0//EN
CALSCALE:GREGORIAN
METHOD:PUBLISH
X-ORIGINAL-URL:https://ljv-hessen.de
X-WR-CALDESC:Veranstaltungen für Landesjagdverband Hessen e.V.
REFRESH-INTERVAL;VALUE=DURATION:PT1H
X-Robots-Tag:noindex
X-PUBLISHED-TTL:PT1H
BEGIN:VTIMEZONE
TZID:Europe/Berlin
BEGIN:DAYLIGHT
TZOFFSETFROM:+0100
TZOFFSETTO:+0200
TZNAME:CEST
DTSTART:20240331T010000
END:DAYLIGHT
BEGIN:STANDARD
TZOFFSETFROM:+0200
TZOFFSETTO:+0100
TZNAME:CET
DTSTART:20241027T010000
END:STANDARD
BEGIN:DAYLIGHT
TZOFFSETFROM:+0100
TZOFFSETTO:+0200
TZNAME:CEST
DTSTART:20250330T010000
END:DAYLIGHT
BEGIN:STANDARD
TZOFFSETFROM:+0200
TZOFFSETTO:+0100
TZNAME:CET
DTSTART:20251026T010000
END:STANDARD
BEGIN:DAYLIGHT
TZOFFSETFROM:+0100
TZOFFSETTO:+0200
TZNAME:CEST
DTSTART:20260329T010000
END:DAYLIGHT
BEGIN:STANDARD
TZOFFSETFROM:+0200
TZOFFSETTO:+0100
TZNAME:CET
DTSTART:20261025T010000
END:STANDARD
END:VTIMEZONE
BEGIN:VEVENT
DTSTART;TZID=Europe/Berlin:20251111T000000
DTEND;TZID=Europe/Berlin:20251111T235959
DTSTAMP:20260421T152435
CREATED:20251112T120325Z
LAST-MODIFIED:20251112T120816Z
UID:26287-1762819200-1762905599@ljv-hessen.de
SUMMARY:VSwP/VFsP am Hoherodskopf 2025
DESCRIPTION:68. Verbandsschweißprüfung und 22. Verbandsfährtenschuhprüfung „Georg Henning – Gedächtnisprüfung“ am 11.10.2025 auf dem Hoherodskopf/Vogelsberg \n\n\n\n\n\n\n\n	\n	\n		\n	\n	\n		JGHV Nennung zur Verbands-Prüfung\n		200\,76 KB /  19. August 2022	\n	\n\n\n\n	\n	\n		\n	\n	\n		Ausschreibungsunterlagen VFSP und VSwP 2025\n		105\,99 KB /  25. Juli 2025
URL:https://ljv-hessen.de/veranstaltung/vswp-vfsp-am-hoherodskopf-2025/
LOCATION:Hoherodskopf\, Hoherodskopf\, Hessen
CATEGORIES:Jagdgebrauchshunde,LJV-Hessen
ATTACH;FMTTYPE=image/jpeg:https://ljv-hessen.de/wp-content/uploads/2020/06/Hoherodskopf-Siegerfoto2019.jpg
END:VEVENT
END:VCALENDAR